BEGIN:VCALENDAR
VERSION:2.0
PRODID:-//Debian//Events//EN
CALSCALE:GREGORIAN
COMMENT:Auto-generated from the Debian Events web pages
BEGIN:VEVENT
UID:CLT7@events.www.debian.org
URL:https://www.debian.org/events/2005/0305-linuxtag-chemnitz.en.ics
SUMMARY;CHARSET=utf-8;LANGUAGE=en:7th Chemnitzer Linux-Tage
DESCRIPTION;CHARSET=utf-8;LANGUAGE=en:7th Chemnitzer Linux-Tage - This is
  the second largest exhibition and conference in Germany that addresses
  GNU/Linux and Free Software. This year's motto is: True Love - Linux loves
  desktop.
CONTACT;CHARSET=utf-8;LANGUAGE=en:Alexander Schmehl
CLASS:PUBLIC
CATEGORIES:CONFERENCE
X-EPOCAGENDAENTRYTYPE:EVENT
DTSTART:20050305T000000
DTEND:20050306T240000
LOCATION;CHARSET=utf-8;LANGUAGE=en:Chemnitz\, Germany
LAST-MODIFIED:20260105T115357Z
END:VEVENT
END:VCALENDAR
