BEGIN:VCALENDAR
VERSION:2.0
PRODID:-//Debian//Events//EN
CALSCALE:GREGORIAN
COMMENT:Auto-generated from the Debian Events web pages
BEGIN:VEVENT
UID:CeBIT05@events.www.debian.org
URL:https://www.debian.org/events/2005/0310-cebit.en.ics
SUMMARY;CHARSET=utf-8;LANGUAGE=en:CeBIT
DESCRIPTION;CHARSET=utf-8;LANGUAGE=en:CeBIT - CeBIT is one of the world's
  most important computer exhibitions\, together with Comdex in Las Vegas.
  It's the largest one worldwide.
CONTACT;CHARSET=utf-8;LANGUAGE=en:Alexander Schmehl
CLASS:PUBLIC
CATEGORIES:CONFERENCE
X-EPOCAGENDAENTRYTYPE:EVENT
DTSTART:20050310T000000
DTEND:20050316T240000
LOCATION;CHARSET=utf-8;LANGUAGE=en:Hannover\, Germany
LAST-MODIFIED:20260105T115357Z
END:VEVENT
END:VCALENDAR
