BEGIN:VCALENDAR
VERSION:2.0
PRODID:-//Debian//Events//EN
CALSCALE:GREGORIAN
COMMENT:Auto-generated from the Debian Events web pages
BEGIN:VEVENT
UID:CLT8@events.www.debian.org
URL:https://www.debian.org/events/2006/0304-linuxtag-chemnitz.en.ics
SUMMARY;CHARSET=utf-8;LANGUAGE=en:8th Chemnitzer Linux-Tage
DESCRIPTION;CHARSET=utf-8;LANGUAGE=en:8th Chemnitzer Linux-Tage - This is
  the one of the largest exhibition and conference in Germany that addresses
  GNU/Linux and Free Software. This year's motto is: GNU/Linux for the whole
  family.
CONTACT;CHARSET=utf-8;LANGUAGE=en:No&egrave;l K&ouml;the
CLASS:PUBLIC
CATEGORIES:CONFERENCE
X-EPOCAGENDAENTRYTYPE:EVENT
DTSTART:20060304T000000
DTEND:20060305T240000
LOCATION;CHARSET=utf-8;LANGUAGE=en:Chemnitz\, Germany
LAST-MODIFIED:20260105T115357Z
END:VEVENT
END:VCALENDAR
